{"text_format":"3","workbook":"xlsx","n_sheets":2,"sheets":["NSU","Arvo-ottelut"],"read":"whole","date_system":"1900"}

{"sheet":"NSU","index":0,"n_rows":33,"n_cols":43,"rows_kept":33}
[null,"Tiina Saarenketo",null,null,"1.5.1964"]
[null,"SUPERPESIS",null,null,"Runkosarja",{"$nulls":3},"  Kärkilyönnit (KL),  pesänvälit",{"$nulls":7},"Runkosarja",{"$nulls":3},"Ylempi loppusarja",{"$nulls":6},"    Ylempi loppusarja",{"$nulls":4},"Play off, voitot, voittoprosentti",{"$nulls":4},"           Arvo-ottelut ja mitalit"]
[null,"Vuosi","Sija","Seura","OTT","KUN","LÖI","TOI","KL","0 > 1","1 > 2","2 > 3","3 > k","KL-%",null,"LÖI","TOI","L+T","KL",null,"OTT","KUN","LÖI","TOI","KL","KL-%",null,"LÖI","TOI","L+T","KL",null,"Puolivälierät","Välierät","Pronssi","Finaalit",null,"IL","LL","Cup","K","H","P"]
[null,1978,"5.-6.","Kiri",0,0,0,0,{"$nulls":12},2]
[null,1979,"9.-10.","Kiri",9,0,2,9]
[null,1980,"3.","Kiri",8,0,5,9,{"$nulls":12},4,0,1,1,{"$nulls":18},1]
[null,1981,"8.","Kiri",14,0,2,6,52,9,15,21,1,{"v":0.734375,"d":"73.4 %"},{"$f":"PRODUCT(I7/N7)","v":70.80851063829788}]
[null,1982,"8.","Kiri",14,0,1,14,35,6,13,17,2,{"v":0.578125,"d":"57.8 %"},60.54054054054054]
[null,1983,"4.","Kiri",15,1,8,18,57,7,24,14,9,{"v":0.5567010309278351,"d":"55.7 %"},102.38888888888889,{"$nulls":22},1]
[null,1984,"5.","Kiri",18,1,18,25,101,10,38,36,19,{"v":0.6866666666666666,"d":"68.7 %"},147.0873786407767,{"$nulls":4},{"$f":"PRODUCT(L10/S10)","v":{"$error":"#DIV/0!"}},{"$nulls":11},{"$f":"PRODUCT(#REF!/AE10)","v":{"$error":"#REF!"}}]
[null,1985,"5.","Kiri",18,2,10,22,81,18,26,25,12,{"v":0.6230769230769231,"d":"62.3 %"},130,{"$nulls":4},{"$error":"#DIV/0!"},{"$nulls":11},{"$f":"PRODUCT(#REF!/AE11)","v":{"$error":"#REF!"}}]
[null,1986,"6.","Kiri",18,7,19,26,92,21,18,27,26,"----",{"$nulls":5},{"$error":"#DIV/0!"},{"$nulls":11},{"$f":"PRODUCT(#REF!/AE12)","v":{"$error":"#REF!"}},{"$nulls":5},1]
[null,1987,"4.","Roihu",18,0,25,8,78,5,20,28,{"$f":"PRODUCT(F13+G13)","v":25},"----",{"$nulls":5},{"$error":"#DIV/0!"},{"$nulls":11},{"$f":"PRODUCT(#REF!/AE13)","v":{"$error":"#REF!"}},{"$nulls":5},1]
[null,1988,"2.","Roihu",18,1,31,17,80,8,12,28,{"$f":"PRODUCT(F14+G14)","v":32},"----",{"$nulls":5},{"$error":"#DIV/0!"},{"$nulls":11},{"$f":"PRODUCT(#REF!/AE14)","v":{"$error":"#REF!"}},{"$nulls":3}," 10-16  Virkiä",null,1,1,null,null,1]
[null,1989,"2.","ViU",18,3,30,39,139,17,40,49,{"$f":"PRODUCT(F15+G15)","v":33},"----",null,"8.","7.","3.","2.",{"$error":"#VALUE!"},{"$nulls":11},{"$f":"PRODUCT(#REF!/AE15)","v":{"$error":"#REF!"}},null," 24-16  Tarmo",null,"   9-23  Kiri",null,1,1,1,null,1]
[null,1990,"1.","ViU",22,7,53,46,168,12,34,62,60,{"v":0.757,"d":"75.7 %"},{"$f":"PRODUCT(I16/N16)","v":221.92866578599737},"4.","10.","6.","8.",{"$error":"#VALUE!"},{"$nulls":11},{"$f":"PRODUCT(#REF!/AE16)","v":{"$error":"#REF!"}},null," 2-1  Kiri",null," 2-0  Virkiä",null,1,1,1,1]
[null,1991,"5.","Kiri",22,2,39,41,147,15,41,50,{"$f":"SUM(F17+G17)","v":41},{"v":0.665,"d":"66.5 %"},221.05263157894737,null,null,"7.","8.",{"$nulls":13}," 1-2  Virkiä",{"$nulls":4},1,1]
[null,1992,"6.","Kiri",22,2,17,39,141,29,61,32,{"$f":"SUM(F18+G18)","v":19},{"v":0.684,"d":"68.4 %"},206.14035087719296,{"$nulls":17}," 0-2  ViU",{"$nulls":4},1]
[null,1993,"2.","SiiPe",24,3,37,24,160,19,46,55,{"$f":"SUM(F19+G19)","v":40},{"v":0.635,"d":"63.5 %"},251.96850393700788,{"$nulls":3},"6.",{"$f":"PRODUCT(L19/S19)","v":{"$error":"#VALUE!"}},{"$nulls":12}," 2-1  ViU"," 2-1  ViPa",null," 0-2  Virkiä",null,1,{"$nulls":3},1]
[null,1994,"5.","Kiri",24,5,30,33,139,19,35,50,35,{"v":0.653,"d":"65.3 %"},212.8637059724349,null,null,"8.","5.",{"$error":"#VALUE!"},{"$nulls":11},{"$f":"PRODUCT(#REF!/AE20)","v":{"$error":"#REF!"}}," 0-2  Virkiä",{"$nulls":4},1]
[null,1995,"3.","Kiri",22,1,20,33,137,15,27,74,21,{"v":0.637,"d":"63.7 %"},215.0706436420722,{"$nulls":4},{"$error":"#DIV/0!"},{"$nulls":11},{"$f":"PRODUCT(#REF!/AE21)","v":{"$error":"#REF!"}}," 3-1  Virkiä"," 0-3  Lippo"," 2-0  ViPa",null,null,1,{"$nulls":4},1]
[null,"Yhteensä",null,null,{"$f":"SUM(E4:E21)","v":304},35,347,409,1607,210,450,568,375,{"$f":"PRODUCT(1218/O22)","v":{"v":0.6620105545720938,"d":"66.2 %"}},{"$f":"SUM(O7:O21)","v":1839.8498205021567},"0-0-0","0-0-0","0-0-1","0-1-0",{"$error":"#VALUE!"},{"$f":"SUM(U4:U21)","v":6},0,1,1,0,null,{"$f":"SUM(AA13:AA21)","v":0},"0-0-0","0-0-0","0-0-0","0-0-0",null,"2/5   40%","3/4   75%","1/1   100%","1/4   25%",null,11,4,2,1,3,2]
[null,"Pesispörssi",null,1839.7]
[]
[null,"URA SUPERISSA",null,null,"OTT","KUN","LÖI","TOI","KL",null,"ka/L","ka/T","ka/KL","K - %",null,"ENSIMMÄISET RUNKOSARJASSA"]
[null,"Runkosarja",null,null,{"$f":"PRODUCT(E22)","v":304},{"$f":"PRODUCT(F22)","v":35},{"$f":"PRODUCT(G22)","v":347},{"$f":"PRODUCT(H22)","v":409},{"$f":"PRODUCT(I22)","v":1607},null,{"$f":"PRODUCT((F26+G26)/E26)","v":{"v":1.256578947368421,"d":"1.26"}},{"$f":"PRODUCT(H26/E26)","v":{"v":1.3453947368421053,"d":"1.35"}},{"$f":"PRODUCT(I26/E26)","v":{"v":5.286184210526316,"d":"5.29"}},{"$f":"PRODUCT(N22)","v":{"v":0.6620105545720938,"d":"66.2 %"}},{"$f":"PRODUCT(O22)","v":1839.8498205021567},"Ottelu",null,"20.05. 1979  SMJ - Kiri  5-6",{"$nulls":6},"1.  ottelu",null,null,"  15 v   0 kk 19 pv"]
[null,"Ylempi loppusarja",null,null,{"$f":"PRODUCT(U22)","v":6},{"$f":"PRODUCT(V22)","v":0},{"$f":"PRODUCT(W22)","v":1},{"$f":"PRODUCT(X22)","v":1},{"$f":"PRODUCT(Y22)","v":0},null,{"$f":"PRODUCT((F27+G27)/E27)","v":{"v":0.16666666666666666,"d":"0.17"}},{"$f":"PRODUCT(H27/E27)","v":{"v":0.16666666666666666,"d":"0.17"}},null,null,{"$f":"PRODUCT(I27/N27)","v":{"$error":"#DIV/0!"}},"Lyöty ",null,"10.06. 1979  Kiri - TU  13-1",{"$nulls":6},"5.  ottelu",null,null,"  15 v   1 kk   9 pv"]
[null,"Alempi loppusarja",null,null,4,{"$f":"PRODUCT(AH22)","v":0},{"$f":"PRODUCT(AI22)","v":0},7,{"$f":"PRODUCT(AK22)","v":0},null,{"$f":"PRODUCT((F28+G28)/E28)","v":{"v":0,"d":"0.00"}},{"$f":"PRODUCT(H28/E28)","v":1.75},{"$nulls":3},"Tuotu ",null,"20.05. 1979  SMJ - Kiri  5-6",{"$nulls":6},"1.  ottelu",null,null,"  15 v   0 kk 19 pv"]
[null,"KAIKKI",null,null,{"$f":"SUM(E26:E28)","v":314},{"$f":"SUM(F26:F28)","v":35},{"$f":"SUM(G26:G28)","v":348},{"$f":"SUM(H26:H28)","v":417},{"$f":"SUM(I26:I28)","v":1607},null,{"$f":"PRODUCT((F29+G29)/E29)","v":{"v":1.2197452229299364,"d":"1.22"}},{"$f":"PRODUCT(H29/E29)","v":{"v":1.3280254777070064,"d":"1.33"}},5.29,null,{"$f":"SUM(O26:O28)","v":{"$error":"#DIV/0!"}},"Kunnari",null,"21.07. 1983  Kiri - IT  14-8",{"$nulls":6},"62.  ottelu",null,null,"  19 v   2 kk 20 pv"]
[]
[null," Vuoden pesäpalloilija  1990"]
[]
[null,"Seurat",null,"Kiri = Jyväskylän Kiri  (1930)",{"$nulls":5},"Roihu  (1957)",{"$nulls":3},"ViU = Viinijärven Urheilijat  (1914)",{"$nulls":7},"SiiPe  = Siilinjärven Pesis  (1987)"]

{"sheet":"Arvo-ottelut","index":1,"n_rows":30,"n_cols":24,"rows_kept":30}
[null," ITÄ - LÄNSI - KORTTI"]
[null,"Tiina Saarenketo","1.5.1964"]
[null,"NAISET","Itä - Länsi, tulos","Joukkue","Seura",null,"V","T","H","Up.","Lj.","Palk.","O","K","L","T","KL",1,2,3,"k","KL-%","Pelinjohtaja      "," Yleisöä"]
[null,"20.08. 1983  Tampere","  9-8","Itä","Kiri",null,1,{"$nulls":3},"vai",null,1,{"$nulls":3},"0/0",{"$nulls":4},"----","Ali Lindström","620"]
[null,"24.08. 1986  Stadion, Helsinki","  0-1","Itä","Kiri",{"$nulls":3},1,"3p",null,null,1,{"$nulls":9},"Ali Lindström","8000"]
[null,"08.08. 1987  Stadion, Helsinki","  3-2","Itä","Kiri",null,1,null,null,"3v",8,null,1,{"$nulls":3},"2/4","0/2",null,"2/2",null,{"v":0.5,"d":"50.0 %"},"Heikki Kauppinen","4870"]
[null,"06.08. 1988  Ikaalinen"," 5-14","Itä","Roihu",{"$nulls":3},1,"3v",6,"II p",1,null,2,null,"4/7","1/2","1/1","2/2","0/2",{"v":0.5714285714285714,"d":"57.1 %"},"Kosti Parviainen","1501"]
[null,"22.07. 1989  Viinijärvi","  8-5","Itä","Kiri",null,1,null,null,"s",3,null,1,1,null,3,"5/7","1/2","2/3","1/1","1/1",{"v":0.7142857142857143,"d":"71.4 %"},"Jouni Vatanen","2076"]
[null,"12.08. 1990  Ulvila","10-1","Itä","ViU",null,1,null,null,"3p",5,null,1,null,1,null,"4/7","0/1",null,"3/3","1/3",{"v":0.5714285714285714,"d":"57.1 %"},"Ali Lindström","2783"]
[null,"20.07. 1991  Oulu"," 5-12","Itä","Kiri",{"$nulls":3},1,"s",3,null,1,null,1,null,"4/9","0/1","1/4","2/2","1/2",{"v":0.4444444444444444,"d":"44.4 %"},"Petri Kaijansinkko","3495"]
[null,"27.06. 1992  Vihti"," 9-10","Itä","Kiri",{"$nulls":3},1,"3p",6,"II p",1,null,2,1,"4/6","1/1",null,"1/1","2/4",{"v":0.6666666666666666,"d":"66.7 %"},"Jari Haapanen","2430"]
[null,"24.07. 1993  Sotkamo","15-21","Itä","Kiri",{"$nulls":3},1,"1v",4,null,1,2,null,4,"9/12","2/2","2/2","3/4","2/4",{"v":0.75,"d":"75.0 %"},"Markku Kiiski","3799"]
[null,"23.07. 1994  Loimaa","2-0  (4-2, 3-0)","Itä","Kiri",null,1,null,null,"3v",4,null,1,null,null,1,"4/4",null,"2/2","2/2",null,{"v":1,"d":"100.0 %"},"Markku Kiiski","4141"]
[null,"15.07. 1995  Alajärvi","1-1  (4-3, 3-4, 0-0)","Itä","Kiri",null,null,1,null,"3v",4,null,1,null,1,1,"4/10",null,"1/2","2/6","1/2",{"v":0.4,"d":"40.0 %"},"Aulis Väisänen","4622"]
[null,"Yhteensä",{"$nulls":4},{"$f":"SUM(G4:G14)","v":5},{"$f":"SUM(H4:H14)","v":1},{"$f":"SUM(I4:I14)","v":5},{"$nulls":3},{"$f":"SUM(M4:M14)","v":11},3,7,10,"40/66","5/11","9/14","18/23","8/18",{"v":0.606,"d":"60.6 %"}]
[null,"Ikä ensimmäisessä ottelussa","19 v  3 kk  19 pv"]
[]
[null,"B-TYTÖT","Itä - Länsi, tulos","Joukkue","Seura",null,"V","T","H","Up.","Lj.","Palk.","O","K","L","T","KL",1,2,3,"k","KL-%","Pelinjohtaja      "," Yleisöä"]
[null,"12.07. 1980  Imatra","12-15","Itä","Kiri",{"$nulls":3},1,null,"vai",null,1,null,null,1,{"$nulls":6},"Osmo Okker"]
[null,"28.06. 1981  Hyvinkää","11-12","Itä","Kiri",{"$nulls":3},1,"s",7,null,1,null,1,2,"5/6","2/2","1/1","1/2","1/1",{"v":0.8333333333333334,"d":"83.3 %"},"Reino Kuivalainen"]
[null,"Yhteensä",{"$nulls":6},2,{"$nulls":3},2,null,1,3,"5/6","2/2","1/1","1/2","1/1",{"v":0.8333333333333334,"d":"83.3 %"}]
[]
[null," LIITTO - LEHDISTÖ - KORTTI"]
[null,"NAISET","Tulos","Joukkue","Seura",null,"V","T","H","Up.","Lj.","Palk.","O","K","L","T","KL",1,2,3,"k","  KL-%","Pelinjohtaja      "," Yleisöä"]
[null,"19.06. 1988  Vähäkyrö","11-1","Lehdistö","Roihu",{"$nulls":3},1,"3p",3,null,1,null,null,1,"2/4","1/2","1/1","0/1",null,{"v":0.5,"d":"50.0 %"},"Ali Lindström ",209]
[null,"18.06. 1989  Vimpeli","  7-13","Lehdistö","ViU",null,1,{"$nulls":3},"vai",null,1,{"$nulls":3},"1/4","1/1",null,"0/1","0/2",{"v":0.25,"d":"25.0 %"},"Paavo Lakaniemi",725]
[null,"16.06. 1990  Ikaalinen","  1-2","Liitto","ViU",{"$nulls":3},1,"s",4,null,1,{"$nulls":3},"3/7","0/1","2/3","1/3",null,{"v":0.42857142857142855,"d":"42.9 %"},"Markku Lähteenmäki",350]
[null,"08.06. 1991  Vihti","12-1","Liitto","Kiri",null,1,null,null,"3p",4,"II p",1,null,4,null,"7/9",null,null,"3/4","4/5",{"v":0.7777777777777778,"d":"77.8 %"},"Jari Haapanen ",643]
[null,"Yhteensä",{"$nulls":4},{"$f":"SUM(G25:G28)","v":2},null,{"$f":"SUM(I25:I28)","v":2},{"$nulls":3},{"$f":"SUM(M25:M28)","v":4},null,4,1,"13/24","2/4","3/4","4/9","4/7",{"v":0.542,"d":"54.2 %"}]
[null,"Ikä ensimmäisessä ottelussa","24 v  1 kk  18 pv"]